BEGIN:VCALENDAR
VERSION:2.0
PRODID:-//wp-events-plugin.com//7.2.3.1//EN
TZID:America/Los_Angeles
X-WR-TIMEZONE:America/Los_Angeles
BEGIN:VEVENT
UID:199@usrotary.org
DTSTART;TZID=America/Los_Angeles;VALUE=DATE:20240815
DTEND;TZID=America/Los_Angeles;VALUE=DATE:20240816
DTSTAMP:20240716T213714Z
URL:https://usrotary.org/events/alex-hudson-commute-seattle/
SUMMARY:Alex Hudson\, Commute Seattle
DESCRIPTION:Program: Alex Hudson\, Commute Seattle\, “Transportation in S
 eattle: What’s Happening\, What’s Coming\, and Why It All Matters\,”
  August 15\, 2024Join the University Sunrise Rotary Club for a program f
 eaturing Commute Seattle Executive Director\, Alex Hudson.The program wil
 l be presented in person and on Zoom on Thursday morning with the Zoom lin
 e opening at 7:00 a.m.  The formal meeting including the program runs fro
 m 7:30-8:30 a.m.  No registration is required\, and the program is free.
 The in-person meeting will be at the Wedgwood Community Church at 8201 30t
 h Ave NE\, Seattle. Doors open at 7:00 a.m. and the program begins at 7:30
  a.m.The meeting will also be available via Zoom. Click here to join the 
 meeting Thursday morning.  The Zoom line will open shortly after 7:00 a.
 m.Alex Hudson is the Executive Director of Commute Seattle. Alex is a resi
 dent of First Hill and previously served as the Executive Director at Tran
 sportation Choices Coalition and the First Hill Improvement Association. A
  widely respected civic leader\, Alex also serves on the boards of Bellwet
 her Housing and the Freeway Park Association. She was named by Seattle Mag
 azine as one of Seattle’s most influential people in 2015 and was a cand
 idate for Seattle City Council in 2023.
CATEGORIES:Speakers
END:VEVENT
BEGIN:VTIMEZONE
TZID:America/Los_Angeles
X-LIC-LOCATION:America/Los_Angeles
BEGIN:DAYLIGHT
DTSTART:20240310T030000
TZOFFSETFROM:-0800
TZOFFSETTO:-0700
TZNAME:PDT
END:DAYLIGHT
END:VTIMEZONE
END:VCALENDAR