BEGIN:VCALENDAR
VERSION:2.0
PRODID:-//wp-events-plugin.com//7.2.3.1//EN
TZID:America/Los_Angeles
X-WR-TIMEZONE:America/Los_Angeles
BEGIN:VEVENT
UID:282@usrotary.org
DTSTART;TZID=America/Los_Angeles;VALUE=DATE:20250805
DTEND;TZID=America/Los_Angeles;VALUE=DATE:20250806
DTSTAMP:20250713T212847Z
URL:https://usrotary.org/events/block-party/
SUMMARY:Block Party\, August 5\, 2025
DESCRIPTION:\nTuesday\, August 5&nbsp\;= National Night Out and Block Party
  at Magnuson Park...Community and Youth Service.\n\n\n\n\n\n\n\nThe Block 
 Party is now part of the National Night Out observed in many communities a
 cross the country.&nbsp\;\n\n\n\nOur members will be proud to know that th
 ese additional organizations will participate.:&nbsp\; &nbsp\;Caravan Heal
 th Care\, Denise Louie Educational Foundation\, Rally Club\,&nbsp\; Tennis
  Center Sand Point\, Seattle Police\, Seattle Fire\, Park Rangers\, Commun
 ity Health\, Cascade Bike Club and Girl Scouts.\n\n\n\n\n
CATEGORIES:Community Service
END:VEVENT
BEGIN:VTIMEZONE
TZID:America/Los_Angeles
X-LIC-LOCATION:America/Los_Angeles
BEGIN:DAYLIGHT
DTSTART:20250309T030000
TZOFFSETFROM:-0800
TZOFFSETTO:-0700
TZNAME:PDT
END:DAYLIGHT
END:VTIMEZONE
END:VCALENDAR