BEGIN:VCALENDAR
VERSION:2.0
PRODID:-//wp-events-plugin.com//7.2.3.1//EN
TZID:America/Los_Angeles
X-WR-TIMEZONE:America/Los_Angeles
BEGIN:VEVENT
UID:225@usrotary.org
DTSTART;TZID=America/Los_Angeles;VALUE=DATE:20241121
DTEND;TZID=America/Los_Angeles;VALUE=DATE:20241122
DTSTAMP:20240716T203418Z
URL:https://usrotary.org/events/club-board-meeting-immediately-following-c
 lub-meeting-3/
SUMMARY:Club Board Meeting (Immediately Following Club Meeting)
DESCRIPTION:
CATEGORIES:Board Meetings
END:VEVENT
BEGIN:VTIMEZONE
TZID:America/Los_Angeles
X-LIC-LOCATION:America/Los_Angeles
BEGIN:STANDARD
DTSTART:20241103T010000
TZOFFSETFROM:-0700
TZOFFSETTO:-0800
TZNAME:PST
END:STANDARD
END:VTIMEZONE
END:VCALENDAR