BEGIN:VCALENDAR
VERSION:2.0
PRODID:-//wp-events-plugin.com//7.2.3.1//EN
TZID:America/Los_Angeles
X-WR-TIMEZONE:America/Los_Angeles
BEGIN:VEVENT
UID:190@usrotary.org
DTSTART;TZID=America/Los_Angeles;VALUE=DATE:20240718
DTEND;TZID=America/Los_Angeles;VALUE=DATE:20240719
DTSTAMP:20240716T203418Z
URL:https://usrotary.org/events/club-board-meeting-immediately-following-c
 lub-meeting-7/
SUMMARY:Club Board Meeting (Immediately Following Club Meeting)
DESCRIPTION:
CATEGORIES:Board Meetings
END:VEVENT
BEGIN:VTIMEZONE
TZID:America/Los_Angeles
X-LIC-LOCATION:America/Los_Angeles
BEGIN:DAYLIGHT
DTSTART:20240310T030000
TZOFFSETFROM:-0800
TZOFFSETTO:-0700
TZNAME:PDT
END:DAYLIGHT
END:VTIMEZONE
END:VCALENDAR