BEGIN:VCALENDAR
VERSION:2.0
PRODID:-//wp-events-plugin.com//7.2.3.1//EN
TZID:America/Los_Angeles
X-WR-TIMEZONE:America/Los_Angeles
BEGIN:VEVENT
UID:313@usrotary.org
DTSTART;TZID=America/Los_Angeles:20251106T070000
DTEND;TZID=America/Los_Angeles:20251106T083000
DTSTAMP:20250715T181542Z
URL:https://usrotary.org/events/club-meeting-2/
SUMMARY:Club Meeting
DESCRIPTION:\nWe will hold a club meeting chaired by President Ed.  It will
  be in person and on Zoom on Thursday morning.  The formal meeting includ
 ing the program runs from 7:30-8:30 a.m.  No registration is required\, 
 and the program is free.\n\n\n\n\nThe in-person meeting will be at the Nor
 th Seattle Church\, 2150 N 122nd\, Seattle.  Doors open at 7:00 a.m. and t
 he program begins at 7:30 a.m.\n\n\n\n\n\nClick here to join the meeting o
 n Zoom.  The line will open shortly after 7:00 a.m.\n\n\n\n\n\n
CATEGORIES:Speakers
END:VEVENT
BEGIN:VTIMEZONE
TZID:America/Los_Angeles
X-LIC-LOCATION:America/Los_Angeles
BEGIN:STANDARD
DTSTART:20251102T010000
TZOFFSETFROM:-0700
TZOFFSETTO:-0800
TZNAME:PST
END:STANDARD
END:VTIMEZONE
END:VCALENDAR