BEGIN:VCALENDAR
VERSION:2.0
PRODID:-//wp-events-plugin.com//7.2.3.1//EN
TZID:America/Los_Angeles
X-WR-TIMEZONE:America/Los_Angeles
BEGIN:VEVENT
UID:275@usrotary.org
DTSTART;TZID=America/Los_Angeles:20250703T070000
DTEND;TZID=America/Los_Angeles:20250703T083000
DTSTAMP:20250224T194210Z
URL:https://usrotary.org/events/club-meeting/
SUMMARY:Club Meeting
DESCRIPTION:
CATEGORIES:Speakers
END:VEVENT
BEGIN:VTIMEZONE
TZID:America/Los_Angeles
X-LIC-LOCATION:America/Los_Angeles
BEGIN:DAYLIGHT
DTSTART:20250309T030000
TZOFFSETFROM:-0800
TZOFFSETTO:-0700
TZNAME:PDT
END:DAYLIGHT
END:VTIMEZONE
END:VCALENDAR