BEGIN:VCALENDAR
VERSION:2.0
PRODID:-//wp-events-plugin.com//7.2.3.1//EN
TZID:America/Los_Angeles
X-WR-TIMEZONE:America/Los_Angeles
BEGIN:VEVENT
UID:222@usrotary.org
DTSTART;TZID=America/Los_Angeles:20241107T070000
DTEND;TZID=America/Los_Angeles:20241107T083000
DTSTAMP:20241031T210358Z
URL:https://usrotary.org/events/club-veterans-program/
SUMMARY:Program:  Ray Rosales\, "Veteran's Day: Challenges of the Volunteer
  Services\," November 7\, 2024
DESCRIPTION:\nJoin the University Sunrise Rotary Club for a program featu
 ring Ray Rosales.\n\n\n\nThe&nbsp\;program will be presented in-person and
  on Zoom on Thursday morning informally beginning at 7 a.m. The formal mee
 ting including the program runs from 7:30-8:30 a.m. No registration is req
 uired\, and the program is free.\n\n\n\nThe in-person meeting will be at t
 he Wedgwood Community Church at 8201 30th Ave NE\, Seattle.\n\n\n\nThe mee
 ting will also be available via Zoom.&nbsp\;You can click here to join the
  Zoom meeting.\n\n\n\n\n\n\n\nVeterans' Day program "Challenges of the Vol
 unteer Services"\n\n\n\nThis year we are privileged to hear from Ray Rosal
 es. Ray is an Iraq War veteran who is now an outreach coordinator for the 
 Seattle Vet Center. In the past\, our club has heard from veterans of the 
 Vietnam era. Ray will discuss the experiences and issues of Veterans of th
 e "volunteer" services with multiple deployments to Iraq\, Afghanistan\, a
 nd other theaters.\n
CATEGORIES:Speakers
END:VEVENT
BEGIN:VTIMEZONE
TZID:America/Los_Angeles
X-LIC-LOCATION:America/Los_Angeles
BEGIN:STANDARD
DTSTART:20241103T010000
TZOFFSETFROM:-0700
TZOFFSETTO:-0800
TZNAME:PST
END:STANDARD
END:VTIMEZONE
END:VCALENDAR