BEGIN:VCALENDAR
VERSION:2.0
PRODID:-//wp-events-plugin.com//7.2.3.1//EN
TZID:America/Los_Angeles
X-WR-TIMEZONE:America/Los_Angeles
BEGIN:VEVENT
UID:371@usrotary.org
DTSTART;TZID=America/Los_Angeles:20260405T120000
DTEND;TZID=America/Los_Angeles:20260405T140000
DTSTAMP:20260316T223646Z
URL:https://usrotary.org/events/community-service-easter-eggs/
SUMMARY:Community Service - Easter Eggs
DESCRIPTION:\n\n\n\n\nMarch 29\n\n\n\nHide Easter eggs outside\, rain or sh
 ine.\n\n\n\nApril 5\n\n\n\nPlace candy in plastic Easter eggs. Super fun 
 and includes Pizza lunch.\n\n\n\nLocation\n\n\n\nNorth Seattle Church2150 
 N 122nd St. Seattle\, WA 98133\n
CATEGORIES:Community Service
END:VEVENT
BEGIN:VTIMEZONE
TZID:America/Los_Angeles
X-LIC-LOCATION:America/Los_Angeles
BEGIN:DAYLIGHT
DTSTART:20260308T030000
TZOFFSETFROM:-0800
TZOFFSETTO:-0700
TZNAME:PDT
END:DAYLIGHT
END:VTIMEZONE
END:VCALENDAR