BEGIN:VCALENDAR
VERSION:2.0
PRODID:-//wp-events-plugin.com//7.2.3.1//EN
TZID:America/Los_Angeles
X-WR-TIMEZONE:America/Los_Angeles
BEGIN:VEVENT
UID:324@usrotary.org
DTSTART;TZID=America/Los_Angeles:20250823T093000
DTEND;TZID=America/Los_Angeles:20250823T143000
DTSTAMP:20250821T170250Z
URL:https://usrotary.org/events/dr-jose-rizal-park-cleanup-august-23-2025/
SUMMARY:Dr. Jose Rizal Park Cleanup\, August 23\, 2025
DESCRIPTION:\nSaturday\, August 23rd\, 9:30 AM - 23:30 PM: We Heart Seattle
  Dr. Jose Rizal Park Cleanup (12th Ave S\, Seattle\, WA).\n\n\n\nThis is a
  continued effort to clean up and maintain Dr. Jose Rizal Park and surroun
 ding. We Heart Seattle will be partnering with other groups this week to c
 lean as much as possible.  \n\n\n\n\n
CATEGORIES:Community Service
END:VEVENT
BEGIN:VTIMEZONE
TZID:America/Los_Angeles
X-LIC-LOCATION:America/Los_Angeles
BEGIN:DAYLIGHT
DTSTART:20250309T030000
TZOFFSETFROM:-0800
TZOFFSETTO:-0700
TZNAME:PDT
END:DAYLIGHT
END:VTIMEZONE
END:VCALENDAR