BEGIN:VCALENDAR
VERSION:2.0
PRODID:-//wp-events-plugin.com//7.2.3.1//EN
TZID:America/Los_Angeles
X-WR-TIMEZONE:America/Los_Angeles
BEGIN:VEVENT
UID:249@usrotary.org
DTSTART;TZID=America/Los_Angeles:20241116T100000
DTEND;TZID=America/Los_Angeles:20241116T150000
DTSTAMP:20240927T191112Z
URL:https://usrotary.org/events/food-drive-2/
SUMMARY:Food Drive
DESCRIPTION:\nFOOD DRIVE FOR UNIVERSITY DISTRICT FOOD BANK: Saturday\, Nov.
  16\, 10 am to 3 pm\n\n\n\n&nbsp\;&nbsp\;&nbsp\;&nbsp\;&nbsp\;&nbsp\;&nbsp
 \;&nbsp\;&nbsp\;&nbsp\;&nbsp\;&nbsp\;&nbsp\;&nbsp\;&nbsp\; QFC in Universi
 ty Village (feel free to bring family members and/or friends to help)\n\n\
 n\nSIGN UP HERE!\n\n\n\nMORE INFORMATION:\n\n\n\nOur Food Drives occur app
 roximately 4 times per year and are a way of helping the University Distri
 ct Food Bank which is experiencing an ever increasing demand while also fa
 cing a reduced budget due in part to a loss of previous support.&nbsp\; Ou
 r volunteers help shoppers find suggestions for items the Food Bank needs 
 most and then collects those items as shoppers leave.&nbsp\; Volunteer shi
 fts are approximately 2 hours and that time goes quickly.&nbsp\; Volunteer
 s are encouraged to bring family members and/or friends to help.\n
CATEGORIES:Community Service
END:VEVENT
BEGIN:VTIMEZONE
TZID:America/Los_Angeles
X-LIC-LOCATION:America/Los_Angeles
BEGIN:STANDARD
DTSTART:20241103T010000
TZOFFSETFROM:-0700
TZOFFSETTO:-0800
TZNAME:PST
END:STANDARD
END:VTIMEZONE
END:VCALENDAR