BEGIN:VCALENDAR
VERSION:2.0
PRODID:-//wp-events-plugin.com//7.2.3.1//EN
TZID:America/Los_Angeles
X-WR-TIMEZONE:America/Los_Angeles
BEGIN:VEVENT
UID:302@usrotary.org
DTSTART;TZID=America/Los_Angeles:20250721T170000
DTEND;TZID=America/Los_Angeles:20250721T200000
DTSTAMP:20250707T214119Z
URL:https://usrotary.org/events/food-drive-july-21/
SUMMARY:Teen Feed\, July 21
DESCRIPTION:\nMonday\, July 21\, 5 - 8 pm = Teen Feed...Community and Youth
  Service. \n
CATEGORIES:Community Service
END:VEVENT
BEGIN:VTIMEZONE
TZID:America/Los_Angeles
X-LIC-LOCATION:America/Los_Angeles
BEGIN:DAYLIGHT
DTSTART:20250309T030000
TZOFFSETFROM:-0800
TZOFFSETTO:-0700
TZNAME:PDT
END:DAYLIGHT
END:VTIMEZONE
END:VCALENDAR