BEGIN:VCALENDAR
VERSION:2.0
PRODID:-//wp-events-plugin.com//7.2.3.1//EN
TZID:America/Los_Angeles
X-WR-TIMEZONE:America/Los_Angeles
BEGIN:VEVENT
UID:319@usrotary.org
DTSTART;TZID=America/Los_Angeles:20250913T100000
DTEND;TZID=America/Los_Angeles:20250913T150000
DTSTAMP:20250816T205917Z
URL:https://usrotary.org/events/food-drive-september-13-2025/
SUMMARY:Food Drive Sign Up Sheet\, September 13\, 2025
DESCRIPTION:\nJoin volunteers from the University Sunrise Rotary collecting
  much needed food and supplies for the University District Food Bank.  Th
 e place is the QFC store in University Village and the dates are September
  13 and October 25.  Sign up for a shift of 1.5-2 hours between 10 am and
  3 pm here.  These drives are fun and inspiring to see how generous your 
 fellow Seattleites can be!\n\n\n\nWith funding now restricted for the Food
  Stamp program\, recent local employment layoffs and cutoffs to other gove
 rnment food programs\, the need is greater than ever. &nbsp\;The Food Bank
  is also experiencing gaps in the previous sources of support. &nbsp\;We c
 an help the Food Bank and our friends and neighbors who are in need. &nbsp
 \;Open a small window of time in your schedule to help out! &nbsp\;Hope to
  see you there!\n\n\n\n\n
CATEGORIES:Community Service
END:VEVENT
BEGIN:VTIMEZONE
TZID:America/Los_Angeles
X-LIC-LOCATION:America/Los_Angeles
BEGIN:DAYLIGHT
DTSTART:20250309T030000
TZOFFSETFROM:-0800
TZOFFSETTO:-0700
TZNAME:PDT
END:DAYLIGHT
END:VTIMEZONE
END:VCALENDAR