BEGIN:VCALENDAR
VERSION:2.0
PRODID:-//wp-events-plugin.com//7.2.3.1//EN
TZID:America/Los_Angeles
X-WR-TIMEZONE:America/Los_Angeles
BEGIN:VEVENT
UID:248@usrotary.org
DTSTART;TZID=America/Los_Angeles:20241019T100000
DTEND;TZID=America/Los_Angeles:20241019T150000
DTSTAMP:20240927T190741Z
URL:https://usrotary.org/events/food-drive/
SUMMARY:Food Drive
DESCRIPTION:\nFOOD DRIVE FOR UNIVERSITY DISTRICT FOOD BANK:&nbsp\;&nbsp\;&n
 bsp\; Saturday\, Oct. 19\, 10 am to 3 pm\n\n\n\n&nbsp\;&nbsp\;&nbsp\;&nbsp
 \;&nbsp\;&nbsp\;&nbsp\;&nbsp\;&nbsp\;&nbsp\;&nbsp\;&nbsp\;&nbsp\;&nbsp\;&n
 bsp\; QFC in University Village (feel free to bring family members and/or 
 friends to help)\n\n\n\nSIGN UP HERE!\n\n\n\nMORE INFORMATION:\n\n\n\nOur 
 Food Drives occur approximately 4 times per year and are a way of helping 
 the University District Food Bank which is experiencing an ever increasing
  demand while also facing a reduced budget due in part to a loss of previo
 us support.&nbsp\; Our volunteers help shoppers find suggestions for items
  the Food Bank needs most and then collects those items as shoppers leave.
 &nbsp\; Volunteer shifts are approximately 2 hours and that time goes quic
 kly.&nbsp\; Volunteers are encouraged to bring family members and/or frien
 ds to help.\n
CATEGORIES:Community Service
END:VEVENT
BEGIN:VTIMEZONE
TZID:America/Los_Angeles
X-LIC-LOCATION:America/Los_Angeles
BEGIN:DAYLIGHT
DTSTART:20240310T030000
TZOFFSETFROM:-0800
TZOFFSETTO:-0700
TZNAME:PDT
END:DAYLIGHT
END:VTIMEZONE
END:VCALENDAR