BEGIN:VCALENDAR
VERSION:2.0
PRODID:-//wp-events-plugin.com//7.2.3.1//EN
TZID:America/Los_Angeles
X-WR-TIMEZONE:America/Los_Angeles
BEGIN:VEVENT
UID:289@usrotary.org
DTSTART;TZID=America/Los_Angeles;VALUE=DATE:20251219
DTEND;TZID=America/Los_Angeles;VALUE=DATE:20251220
DTSTAMP:20251111T220014Z
URL:https://usrotary.org/events/holiday-party/
SUMMARY:Holiday Party
DESCRIPTION:\n Friday\, December 19th at 5:00pm at Ivar’s.\n\n\n\n\n
CATEGORIES:Social
END:VEVENT
BEGIN:VTIMEZONE
TZID:America/Los_Angeles
X-LIC-LOCATION:America/Los_Angeles
BEGIN:STANDARD
DTSTART:20251102T010000
TZOFFSETFROM:-0700
TZOFFSETTO:-0800
TZNAME:PST
END:STANDARD
END:VTIMEZONE
END:VCALENDAR