BEGIN:VCALENDAR
VERSION:2.0
PRODID:-//wp-events-plugin.com//7.2.3.1//EN
TZID:America/Los_Angeles
X-WR-TIMEZONE:America/Los_Angeles
BEGIN:VEVENT
UID:253@usrotary.org
DTSTART;TZID=America/Los_Angeles:20241111T160000
DTEND;TZID=America/Los_Angeles:20241111T180000
DTSTAMP:20241025T221107Z
URL:https://usrotary.org/events/hunger-strike-2024/
SUMMARY:Hunger Strike 2024
DESCRIPTION:\nHunger Strike 2024 – JOIN US\, on Monday\, November 11\, fr
 om 4 to 6 p.m. At the Garage Billiards and Bowl on Capitol Hill at 1130 Br
 oadway\, Seattle WA 98122.\n\n\n\nYour (University) Sunrise Strikers will 
 be bowling raising funds for Teen Feed. Teen Feed will be the beneficiary 
 of our donations.\n\n\n\nPlease click below to Join the Team! (You have t
 o scroll down to the bottom of the page to see our Team Button).\n\n\n\n\n
CATEGORIES:Speakers
END:VEVENT
BEGIN:VTIMEZONE
TZID:America/Los_Angeles
X-LIC-LOCATION:America/Los_Angeles
BEGIN:STANDARD
DTSTART:20241103T010000
TZOFFSETFROM:-0700
TZOFFSETTO:-0800
TZNAME:PST
END:STANDARD
END:VTIMEZONE
END:VCALENDAR