BEGIN:VCALENDAR
VERSION:2.0
PRODID:-//wp-events-plugin.com//7.2.3.1//EN
TZID:America/Los_Angeles
X-WR-TIMEZONE:America/Los_Angeles
BEGIN:VEVENT
UID:272@usrotary.org
DTSTART;TZID=America/Los_Angeles:20250215T100000
DTEND;TZID=America/Los_Angeles:20250215T120000
DTSTAMP:20250213T163536Z
URL:https://usrotary.org/events/join-the-litter-pick/
SUMMARY:Join the Litter Pick!
DESCRIPTION:\nWeHeartSeattle and Rotary District 5030 (and our club!) are j
 oining together to do a garbage pickup on Saturday\, February 15.\n\n\n\n\
 n10-12 p.m.\n\n\n\nMeet at the Hudson Cafe\, 5000 East Marginal Way South.
 \n\n\n\nMore information can be found here!\n\n\n\n\n\n
CATEGORIES:Community Service
END:VEVENT
BEGIN:VTIMEZONE
TZID:America/Los_Angeles
X-LIC-LOCATION:America/Los_Angeles
BEGIN:STANDARD
DTSTART:20241103T010000
TZOFFSETFROM:-0700
TZOFFSETTO:-0800
TZNAME:PST
END:STANDARD
END:VTIMEZONE
END:VCALENDAR