BEGIN:VCALENDAR
VERSION:2.0
PRODID:-//wp-events-plugin.com//7.2.3.1//EN
TZID:America/Los_Angeles
X-WR-TIMEZONE:America/Los_Angeles
BEGIN:VEVENT
UID:207@usrotary.org
DTSTART;TZID=America/Los_Angeles:20240912T070000
DTEND;TZID=America/Los_Angeles:20240912T083000
DTSTAMP:20240912T172909Z
URL:https://usrotary.org/events/leah-bostwick-seattle-parks/
SUMMARY:Leah Bostwick\, Seattle Parks\, Parks and Public Spaces:  Vehicles 
 for Restoring Equity\, September 12\, 2024
DESCRIPTION:\nJoin the University Sunrise Rotary Club for a program featu
 ring Leah Bostwick of Seattle Parks.\n\n\n\nThe&nbsp\;program will be pres
 ented on Zoom on Thursday morning with the Zoom line opening at 7 a.m. The
  formal meeting including the program runs from 7:30-8:30 a.m. No registra
 tion is required\, and the program is free.\n\n\n\nClick here to join the 
 meeting Thursday morning.\n\n\n\n\n\n\n\n\n\n\n\nFor the past two years\, 
 Leah Bostwick\, BSc/MSc\, has sat on the Development team at Seattle Parks
  Foundation\, a local non-profit and fiscal sponsor serving historically u
 nder-resourced communities in Seattle and King County. Since 1999\, Seattl
 e Parks Foundation has partnered with community to champion thriving and e
 quitable parks and public spaces\, assisting with over 260 community-led p
 rojects. They envision a city where all people feel welcomed and invested 
 in our parks and public spaces\, leading to healthy\, sustainable\, and eq
 uitable communities. As Manager of Grants and Institutional Engagement\, L
 eah builds relationships with foundations\, corporations\, and other insti
 tutions to cultivate time\, talent\, and treasure\, providing diverse comm
 unity groups with the resources needed to successfully execute their park 
 and public space projects.\n\n\n\n\n
CATEGORIES:Speakers
END:VEVENT
BEGIN:VTIMEZONE
TZID:America/Los_Angeles
X-LIC-LOCATION:America/Los_Angeles
BEGIN:DAYLIGHT
DTSTART:20240310T030000
TZOFFSETFROM:-0800
TZOFFSETTO:-0700
TZNAME:PDT
END:DAYLIGHT
END:VTIMEZONE
END:VCALENDAR