BEGIN:VCALENDAR
VERSION:2.0
PRODID:-//wp-events-plugin.com//7.2.3.1//EN
TZID:America/Los_Angeles
X-WR-TIMEZONE:America/Los_Angeles
BEGIN:VEVENT
UID:327@usrotary.org
DTSTART;TZID=America/Los_Angeles:20251018T160000
DTEND;TZID=America/Los_Angeles:20251018T190000
DTSTAMP:20250822T214608Z
URL:https://usrotary.org/events/mainstay-40th-anniversary/
SUMMARY:Mainstay 40th Anniversary Fundraiser\, October 18 2025
DESCRIPTION:\nThere is no better feeling like belonging and finding a perso
 n a JOB! Thank you for supporting our job seekers with disabilities to rea
 ch their dream careers!\n\n\n\nJoin us in supporting Mainstay's 40th Anniv
 ersary Ruby Jubilee!\n\n\n\n\n
CATEGORIES:Community Service
END:VEVENT
BEGIN:VTIMEZONE
TZID:America/Los_Angeles
X-LIC-LOCATION:America/Los_Angeles
BEGIN:DAYLIGHT
DTSTART:20250309T030000
TZOFFSETFROM:-0800
TZOFFSETTO:-0700
TZNAME:PDT
END:DAYLIGHT
END:VTIMEZONE
END:VCALENDAR