BEGIN:VCALENDAR
VERSION:2.0
PRODID:-//wp-events-plugin.com//7.2.3.1//EN
TZID:America/Los_Angeles
X-WR-TIMEZONE:America/Los_Angeles
BEGIN:VEVENT
UID:214@usrotary.org
DTSTART;TZID=America/Los_Angeles;VALUE=DATE:20241003
DTEND;TZID=America/Los_Angeles;VALUE=DATE:20241004
DTSTAMP:20240924T181627Z
URL:https://usrotary.org/events/michelle-martin-read-a-rama/
SUMMARY:Michelle Martin\, Read-A-Rama
DESCRIPTION:\nProgram: Michelle Martin\, “Read-a-Rama: Making the US More
  Literate\,” October 3\, 2024\n\nJoin the University Sunrise Rotary Clu
 b for a program featuring Michelle Martin\, the Executive Director of Re
 ad-a-Rama.\nThe program will be presented in person and on Zoom on Thursd
 ay morning with the Zoom line opening at 7:00 a.m.  The formal meeting in
 cluding the program runs from 7:30-8:30 a.m.  No registration is require
 d\, and the program is free.\nThe in-person meeting will be at the Wedgwoo
 d Community Church at 8201 30th Ave NE\, Seattle. Doors open at 7:00 a.m. 
 and the program begins at 7:30 a.m.\nThe meeting will also be available vi
 a Zoom. Click here to join the meeting Thursday morning.  The Zoom line
  will open shortly after 7:00 a.m.\n\n\nProgram Title: Read-a-Rama: Making
  the US more literate\, one child and one book at a time\nDr. Michelle H. 
 Martin is the Executive Director for Read-a-Rama\, a non-profit that use
 s children’s books as the springboard for literacy-rich programming for 
 children ages 4-11. She is also the Beverly Cleary Professor for Children 
 &amp\; Youth Services in the Information School at the University of Washi
 ngton\, where she teaches students who will be youth services librarians.\
 n\n\n\n
CATEGORIES:Speakers
END:VEVENT
BEGIN:VTIMEZONE
TZID:America/Los_Angeles
X-LIC-LOCATION:America/Los_Angeles
BEGIN:DAYLIGHT
DTSTART:20240310T030000
TZOFFSETFROM:-0800
TZOFFSETTO:-0700
TZNAME:PDT
END:DAYLIGHT
END:VTIMEZONE
END:VCALENDAR