BEGIN:VCALENDAR
VERSION:2.0
PRODID:-//wp-events-plugin.com//7.2.3.1//EN
TZID:America/Los_Angeles
X-WR-TIMEZONE:America/Los_Angeles
BEGIN:VEVENT
UID:373@usrotary.org
DTSTART;TZID=America/Los_Angeles:20260429T130000
DTEND;TZID=America/Los_Angeles:20260429T150000
DTSTAMP:20260408T215907Z
URL:https://usrotary.org/events/packs-for-kids/
SUMMARY:Packs for Kids
DESCRIPTION:\nOn Wednesday\, April 29\, 2026\, our club will be volunteerin
 g at the University District Food Bank to support their Packs for Kids pro
 gram. This is a fantastic initiative that provides weekend food backpacks 
 to local students who might otherwise go without adequate meals when schoo
 ls are closed.\n\n\n\nJoin us at the University District Food Bank:5017 Ro
 osevelt Way NESeattle\, WA 98105\n\n\n\n\n
CATEGORIES:Community Service
END:VEVENT
BEGIN:VTIMEZONE
TZID:America/Los_Angeles
X-LIC-LOCATION:America/Los_Angeles
BEGIN:DAYLIGHT
DTSTART:20260308T030000
TZOFFSETFROM:-0800
TZOFFSETTO:-0700
TZNAME:PDT
END:DAYLIGHT
END:VTIMEZONE
END:VCALENDAR