BEGIN:VCALENDAR
VERSION:2.0
PRODID:-//wp-events-plugin.com//7.2.3.1//EN
TZID:America/Los_Angeles
X-WR-TIMEZONE:America/Los_Angeles
BEGIN:VEVENT
UID:260@usrotary.org
DTSTART;TZID=America/Los_Angeles:20241212T070000
DTEND;TZID=America/Los_Angeles:20241212T083000
DTSTAMP:20241210T170245Z
URL:https://usrotary.org/events/program-amy-quilter-rally-club-december-12
 /
SUMMARY:Program:  Amy Quilter\, Rally Club\, December 12
DESCRIPTION:\nJoin the University Sunrise Rotary Club for a program featu
 ring Amy Quilter of the Rally Club.\n\n\n\nThe program will be presented 
 on Zoom on Thursday morning with the Zoom line opening at 7 a.m.  The for
 mal meeting including the program runs from 7:30-8:30 a.m.  No registrat
 ion is required\, and the program is free.\n\n\n\nThe meeting will be avai
 lable via Zoom. Click here to join the meeting Thursday morning.  The Zo
 om line will open shortly after 7 a.m.\n\n\n\n\n\n\n\nOur&nbsp\; speaker\,
  Amy Quilter\, founder of the organization Rally Club\, Seattle describes 
 the way her program works to help local youngsters in middle school surviv
 e the many social and educational challenges they face.\n\n\n\nThe Rally C
 lub has a vision of creating a supportive community to surround youth thro
 ughout middle school and beyond. One that includes\, youth\, mentors\, fam
 ilies\, as well as teachers\, coaches\, and other caring people. Through t
 heir programming\, they focus on creating or strengthening several types o
 f connections.\n\n\n\n\n
CATEGORIES:Speakers
END:VEVENT
BEGIN:VTIMEZONE
TZID:America/Los_Angeles
X-LIC-LOCATION:America/Los_Angeles
BEGIN:STANDARD
DTSTART:20241103T010000
TZOFFSETFROM:-0700
TZOFFSETTO:-0800
TZNAME:PST
END:STANDARD
END:VTIMEZONE
END:VCALENDAR