BEGIN:VCALENDAR
VERSION:2.0
PRODID:-//wp-events-plugin.com//7.2.3.1//EN
TZID:America/Los_Angeles
X-WR-TIMEZONE:America/Los_Angeles
BEGIN:VEVENT
UID:271@usrotary.org
DTSTART;TZID=America/Los_Angeles:20250213T070000
DTEND;TZID=America/Los_Angeles:20250213T083000
DTSTAMP:20250211T223729Z
URL:https://usrotary.org/events/program-andrea-suarez-what-its-like-to-run
 -for-office-february-13-2025/
SUMMARY:Program:   Andrea Suarez\, "What it's Like to Run for Office\," Feb
 ruary 13\, 2025
DESCRIPTION:\nJoin the University Sunrise Rotary Club for a program featu
 ring Andrea Suarez\, a University Sunrise Rotarian\, the founder of WeHear
 tSeattle\, and who ran for the Washington State Legislature in 2024..\n\n\
 n\nThe&nbsp\;program will be presented on Zoom on Thursday morning with th
 e Zoom line opening at 7 a.m.&nbsp\; The formal meeting including the prog
 ram runs from 7:30-8:30 a.m.&nbsp\;&nbsp\;No registration is required\, an
 d the program is free.\n\n\n\nThe meeting will be available via Zoom.&nbsp
 \;Click here to join the meeting Thursday morning.&nbsp\; The Zoom line wi
 ll open shortly after 7 a.m.\n\n\n\n\n\n\n\n\n\n\n\nAndrea Suarez is the f
 ounder of WeHeartSeattle.  She lives in Belltown and has lived in Washingt
 on for nearly thirty years after growing up in Oregon.  She is a member of
  the University Sunrise Rotary Club.\n\n\n\nOut of heartache and frustrati
 on with local leaders\, she founded We Heart Seattle in 2021. We Heart sta
 rted out as a volunteer organization that removed trash from parks and pub
 lic spaces.\n\n\n\nShe quickly realized there was much more work to be don
 e because too many people had fallen through the cracks of existing social
  services. We Heart helps people in need find housing and treatment. "I am
  proud of the lives we have saved\," she says.\n\n\n\n\n
CATEGORIES:Speakers
END:VEVENT
BEGIN:VTIMEZONE
TZID:America/Los_Angeles
X-LIC-LOCATION:America/Los_Angeles
BEGIN:STANDARD
DTSTART:20241103T010000
TZOFFSETFROM:-0700
TZOFFSETTO:-0800
TZNAME:PST
END:STANDARD
END:VTIMEZONE
END:VCALENDAR