BEGIN:VCALENDAR
VERSION:2.0
PRODID:-//wp-events-plugin.com//7.2.3.1//EN
TZID:America/Los_Angeles
X-WR-TIMEZONE:America/Los_Angeles
BEGIN:VEVENT
UID:318@usrotary.org
DTSTART;TZID=America/Los_Angeles:20250911T070000
DTEND;TZID=America/Los_Angeles:20250911T083000
DTSTAMP:20250812T181435Z
URL:https://usrotary.org/events/program-ann-davison-seattle-city-attorney-
 september-11-2025/
SUMMARY:Program:  Ann Davison\, Seattle City Attorney\, September 11\, 2025
DESCRIPTION:\nJoin the University Sunrise Rotary Club for a program featu
 ring Seattle City Attorney Ann Davison.\n\n\n\nThe&nbsp\;program will be p
 resented on Zoom on Thursday morning with the Zoom line opening at 7 a.m.&
 nbsp\; The formal meeting including the program runs from 7:30-8:30 a.m.&n
 bsp\;&nbsp\;No registration is required\, and the program is free.\n\n\n\n
 The meeting will be available via Zoom.&nbsp\;Click here to join the meeti
 ng Thursday morning.&nbsp\; The Zoom line will open shortly after 7 a.m.\n
 \n\n\n\n\n\n\nAnn Davison is the first female City Attorney and first mot
 her to hold the highest legal office in Seattle city government. Over the 
 past three decades\, Ann has been a constant champion for those without vo
 ice or power.\n\n\n\n\n\n\n\nShe received her B.A. in sociology from Baylo
 r University and her J.D. from Willamette University College of Law. Her c
 areer in public service began more than 30 years ago and includes work in 
 a refugee camp\, a caseworker in the U.S. House of Representatives\, a tea
 cher\, and a lawyer.\n\n\n\nA Texas native\, Ann made Seattle her home in 
 1996 when she accepted a position in the front office of the Seattle Super
 Sonics. She subsequently entered private practice\, focusing on arbitratio
 n\, immigration\, sports\, contracts\, business transactions\, employment\
 , and intellectual property.\n\n\n\nSince being elected Seattle City Attor
 ney in November 2021\, Ann has implemented a series of efficient and innov
 ative policies with a priority focus on public safety\, victims of crime\,
  and unprecedented data transparency—a cutting-edge aspect of prosecutor
  offices around the country. Ann is also committed to ensuring that the Se
 attle City Attorney's Office is among the premier municipal law offices in
  the U.S.\n
CATEGORIES:Speakers
END:VEVENT
BEGIN:VTIMEZONE
TZID:America/Los_Angeles
X-LIC-LOCATION:America/Los_Angeles
BEGIN:DAYLIGHT
DTSTART:20250309T030000
TZOFFSETFROM:-0800
TZOFFSETTO:-0700
TZNAME:PDT
END:DAYLIGHT
END:VTIMEZONE
END:VCALENDAR