BEGIN:VCALENDAR
VERSION:2.0
PRODID:-//wp-events-plugin.com//7.2.3.1//EN
TZID:America/Los_Angeles
X-WR-TIMEZONE:America/Los_Angeles
BEGIN:VEVENT
UID:279@usrotary.org
DTSTART;TZID=America/Los_Angeles:20250313T070000
DTEND;TZID=America/Los_Angeles:20250313T083000
DTSTAMP:20250311T032356Z
URL:https://usrotary.org/events/program-bruce-balick-aliens-part-x-march-1
 3-2025/
SUMMARY:Program: Bruce Balick\, “Aliens\, Part X\," March 13\, 2025
DESCRIPTION:\nJoin the University Sunrise Rotary Club for a program featu
 ring Professor Emeritus Bruce Balick continue his discussion about the exi
 stence of extraterrestrial life.\n\n\n\nThe&nbsp\;program will be presente
 d on Zoom on Thursday morning with the Zoom line opening at 7 a.m.&nbsp\; 
 The formal meeting including the program runs from 7:30-8:30 a.m.&nbsp\;&n
 bsp\;No registration is required\, and the program is free.\n\n\n\nThe mee
 ting will be available via Zoom.&nbsp\;Click here to join the meeting Thur
 sday morning.&nbsp\; The Zoom line will open shortly after 7 a.m.\n\n\n\n\
 n\n\n\n\n\n\n\nDr. Bruce Balick is Professor Emeritus at the University of
  Washington in Astronomy. He joined the UW Astronomy Department in 1975. S
 ubsequently he served as its chair\, became active in faculty governance
 \, and participated in the design of new instrumentation for Hubble. Sin
 ce his retirement in 2014\, Balick continues to publish research papers 
 using data from the Hubble Space Telescope and to supervise astronomy un
 dergraduates in research and public outreach. He is a coauthor on a rese
 arch paper based on one of the newly released images from the James Webb
  telescope.\n\n\n\n\n\n\n\n\n\n\n\n\n
CATEGORIES:Speakers
END:VEVENT
BEGIN:VTIMEZONE
TZID:America/Los_Angeles
X-LIC-LOCATION:America/Los_Angeles
BEGIN:DAYLIGHT
DTSTART:20250309T030000
TZOFFSETFROM:-0800
TZOFFSETTO:-0700
TZNAME:PDT
END:DAYLIGHT
END:VTIMEZONE
END:VCALENDAR