BEGIN:VCALENDAR
VERSION:2.0
PRODID:-//wp-events-plugin.com//7.2.3.1//EN
TZID:America/Los_Angeles
X-WR-TIMEZONE:America/Los_Angeles
BEGIN:VEVENT
UID:347@usrotary.org
DTSTART;TZID=America/Los_Angeles:20260416T070000
DTEND;TZID=America/Los_Angeles:20260416T083000
DTSTAMP:20251211T004731Z
URL:https://usrotary.org/events/program-bruce-balick-professor-emeritus-uw
 -the-first-five-fantastic-years-of-webb-telescope-science-april-16-2026/
SUMMARY:Program: Bruce Balick\, Professor Emeritus\, UW\, “The First Five
  Fantastic Years of Webb Telescope Science\,” April 16\, 2026
DESCRIPTION:\nJoin the University Sunrise Rotary Club for a program featu
 ring University of Washington Astronly Professor Emeritus Bruce Balick.\n\
 n\n\nThe&nbsp\;program will be presented in-person and on Zoom on Thursday
  morning.&nbsp\; The formal meeting including the program runs from 7:30-8
 :30 a.m.&nbsp\;&nbsp\;No registration is required\, and the program is fre
 e.\n\n\n\n\nThe in-person meeting will be at the North Seattle Church (215
 0 N 122nd St\, Seattle).  Doors open at 7:00 a.m. and the program begins 
 at 7:30 a.m.\n\n\n\n\n\nClick here to join the meeting on Zoom.  The line
  will open shortly after 7:00 a.m.\n\n\n\n\n\n\n\n\nBruce Balick\, Profess
 or Emeritus\, Astronomy\, University of Washington\n\n\n\nBalick joined th
 e UW Astronomy Department in 1975. Subsequently he served&nbsp\;as&nbsp\;i
 ts chair\, became active in faculty governance\, and participated&nbsp\;in
  the design&nbsp\;of new instrumentation for Hubble. Since his retirement 
 in&nbsp\;2014\, Balick&nbsp\;continues to publish research papers using da
 ta from the&nbsp\;Hubble Space Telescope&nbsp\;and to supervise astronomy 
 undergraduates in&nbsp\;research and public outreach.\n\n\n\nHe&nbsp\;is a
  coauthor on a research paper&nbsp\;based on one of the newly released ima
 ges&nbsp\;from the James Webb&nbsp\;telescope.\n
CATEGORIES:Speakers
END:VEVENT
BEGIN:VTIMEZONE
TZID:America/Los_Angeles
X-LIC-LOCATION:America/Los_Angeles
BEGIN:DAYLIGHT
DTSTART:20260308T030000
TZOFFSETFROM:-0800
TZOFFSETTO:-0700
TZNAME:PDT
END:DAYLIGHT
END:VTIMEZONE
END:VCALENDAR