BEGIN:VCALENDAR
VERSION:2.0
PRODID:-//wp-events-plugin.com//7.2.3.1//EN
TZID:America/Los_Angeles
X-WR-TIMEZONE:America/Los_Angeles
BEGIN:VEVENT
UID:294@usrotary.org
DTSTART;TZID=America/Los_Angeles:20250821T070000
DTEND;TZID=America/Los_Angeles:20250821T083000
DTSTAMP:20250816T225355Z
URL:https://usrotary.org/events/program-china-update-sam-kaplan-and-spence
 r-cohen-august-21-2025/
SUMMARY:Program:  China Update: Sam Kaplan and Spencer Cohen\, August 21\, 
 2025
DESCRIPTION:\nJoin the&nbsp\;University Sunrise Rotary Club&nbsp\;for a pro
 gram featuring Sam Kaplan and Spencer Cohen\, experts on China that have s
 poken to our club in prior years.\n\n\n\nThe&nbsp\;program will be present
 ed in person and on Zoom on Thursday morning.&nbsp\; The formal meeting in
 cluding the program runs from 7:30-8:30 a.m.&nbsp\;&nbsp\;No registration 
 is required\, and the program is free.\n\n\n\n\nThe in-person meeting will
  be at the North Seattle Church (2150 N 122nd\, Seattle). Doors open at 7:
 00 a.m. and the program begins at 7:30 a.m.\n\n\n\n\n\nClick here to join 
 the meeting on Zoom.  The line will open shortly after 7:00 a.m.\n\n\n\n\
 n\n\n\n\nSam Kaplan\n\n\n\nSpencer Cohen\n\n\n\n\n\n\n\n\n
CATEGORIES:Speakers
END:VEVENT
BEGIN:VTIMEZONE
TZID:America/Los_Angeles
X-LIC-LOCATION:America/Los_Angeles
BEGIN:DAYLIGHT
DTSTART:20250309T030000
TZOFFSETFROM:-0800
TZOFFSETTO:-0700
TZNAME:PDT
END:DAYLIGHT
END:VTIMEZONE
END:VCALENDAR