BEGIN:VCALENDAR
VERSION:2.0
PRODID:-//wp-events-plugin.com//7.2.3.1//EN
TZID:America/Los_Angeles
X-WR-TIMEZONE:America/Los_Angeles
BEGIN:VEVENT
UID:266@usrotary.org
DTSTART;TZID=America/Los_Angeles:20250123T070000
DTEND;TZID=America/Los_Angeles:20250123T083000
DTSTAMP:20250117T002016Z
URL:https://usrotary.org/events/program-chris-ajemian-fusion-energy-the-ro
 ad-to-commercialization-january-23-2025/
SUMMARY:Program:  Chris Ajemian\, "Fusion Energy:  The Road to Commerciali
 zation\," January 23\, 2025
DESCRIPTION:\n\n\n\n\nJoin the University Sunrise Rotary Club for a progr
 am featuring Chris Ajemian\, an expert in fusion energy technology.\n\n\n\
 nThe&nbsp\;program will be presented on Zoom on Thursday morning with the 
 Zoom line opening at 7 a.m.&nbsp\; The formal meeting including the progra
 m runs from 7:30-8:30 a.m.&nbsp\;&nbsp\;No registration is required\, and 
 the program is free.\n\n\n\nThe meeting will be available via Zoom.&nbsp\;
 Click here to join the meeting Thursday morning.&nbsp\; The Zoom line will
  open shortly after 7 a.m.\n\n\n\n\n\n\n\n\n\n\n\nChris Ajemian consults i
 n fusion energy commercialization.&nbsp\; He was an owner and director at 
 CTFusion\, a Seattle based fusion power startup that spun out of the Unive
 rsity of Washington for five years where he did business development and r
 egulatory affairs.&nbsp\; He worked with investors\, power utilities\, the
  NRC\, and federal and state governments.&nbsp\; He founded Seattle Fusion
  Week with the CleanTech Alliance where he is a member of the board.&nbsp\
 ; Before fusion\, he worked in foreign policy and nuclear safeguards at th
 e Pacific Northwest National Laboratory.&nbsp\; He has practiced corporate
  law\, been a journalist covering the U.S. Congress and White House\, and 
 worked on three U.S. presidential campaigns (John Kerry 2004\, Barack Obam
 a 2008/12). &nbsp\;\n
CATEGORIES:Speakers
END:VEVENT
BEGIN:VTIMEZONE
TZID:America/Los_Angeles
X-LIC-LOCATION:America/Los_Angeles
BEGIN:STANDARD
DTSTART:20241103T010000
TZOFFSETFROM:-0700
TZOFFSETTO:-0800
TZNAME:PST
END:STANDARD
END:VTIMEZONE
END:VCALENDAR