BEGIN:VCALENDAR
VERSION:2.0
PRODID:-//wp-events-plugin.com//7.2.3.1//EN
TZID:America/Los_Angeles
X-WR-TIMEZONE:America/Los_Angeles
BEGIN:VEVENT
UID:297@usrotary.org
DTSTART;TZID=America/Los_Angeles:20250925T070000
DTEND;TZID=America/Los_Angeles:20250925T083000
DTSTAMP:20250625T231353Z
URL:https://usrotary.org/events/program-clark-mathers-northwest-riverpartn
 ers-september-25-2025/
SUMMARY:Program:  Clark Mathers\, Northwest RiverPartners\, September 25\, 
 2025
DESCRIPTION:\nJoin the University Sunrise Rotary Club for a program featu
 ring Clark Mathers of Northwest RiverPartners.\n\n\n\nThe&nbsp\;program wi
 ll be presented on Zoom on Thursday morning with the Zoom line opening at 
 7 a.m.&nbsp\; The formal meeting including the program runs from 7:30-8:30
  a.m.&nbsp\;&nbsp\;No registration is required\, and the program is free.\
 n\n\n\nThe meeting will be available via Zoom.&nbsp\;Click here to join th
 e meeting Thursday morning.&nbsp\; The Zoom line will open shortly after 7
  a.m.\n
CATEGORIES:Speakers
END:VEVENT
BEGIN:VTIMEZONE
TZID:America/Los_Angeles
X-LIC-LOCATION:America/Los_Angeles
BEGIN:DAYLIGHT
DTSTART:20250309T030000
TZOFFSETFROM:-0800
TZOFFSETTO:-0700
TZNAME:PDT
END:DAYLIGHT
END:VTIMEZONE
END:VCALENDAR