BEGIN:VCALENDAR
VERSION:2.0
PRODID:-//wp-events-plugin.com//7.2.3.1//EN
TZID:America/Los_Angeles
X-WR-TIMEZONE:America/Los_Angeles
BEGIN:VEVENT
UID:309@usrotary.org
DTSTART;TZID=America/Los_Angeles:20251211T070000
DTEND;TZID=America/Los_Angeles:20251211T083000
DTSTAMP:20251209T192141Z
URL:https://usrotary.org/events/program-classification-talks-december-11-2
 025-2/
SUMMARY:Program: Classification Talks\, December 11\, 2025
DESCRIPTION:\nJoin the&nbsp\;University Sunrise Rotary Club&nbsp\;for a pro
 gram featuring introductions to our members.\n\n\n\nThe&nbsp\;program will
  be presented on Zoom on Thursday morning with the Zoom line opening at 7 
 a.m.&nbsp\; The formal meeting including the program runs from 7:30-8:30 a
 .m.&nbsp\;&nbsp\;No registration is required\, and the program is free.\n\
 n\n\nThe meeting will be available via Zoom.&nbsp\;Click&nbsp\;here&nbsp\;
 to join the meeting Thursday morning.&nbsp\; The Zoom line will open short
 ly after 7 a.m.\n\n\n\nFeaturing Club members Ron Espiritu\, Michelle Lee\
 , and Victoria Wenick!! \n\n\n\n\n
CATEGORIES:Speakers
END:VEVENT
BEGIN:VTIMEZONE
TZID:America/Los_Angeles
X-LIC-LOCATION:America/Los_Angeles
BEGIN:STANDARD
DTSTART:20251102T010000
TZOFFSETFROM:-0700
TZOFFSETTO:-0800
TZNAME:PST
END:STANDARD
END:VTIMEZONE
END:VCALENDAR