BEGIN:VCALENDAR
VERSION:2.0
PRODID:-//wp-events-plugin.com//7.2.3.1//EN
TZID:America/Los_Angeles
X-WR-TIMEZONE:America/Los_Angeles
BEGIN:VEVENT
UID:342@usrotary.org
DTSTART;TZID=America/Los_Angeles:20260212T070000
DTEND;TZID=America/Los_Angeles:20260212T083000
DTSTAMP:20260211T005646Z
URL:https://usrotary.org/events/program-classification-talks-february-12-2
 026/
SUMMARY:Program:  Classification Talks\, February 12\, 2026
DESCRIPTION:\nJoin the&nbsp\;University Sunrise Rotary Club&nbsp\;for a pro
 gram featuring Classification Talks from our members.\n\n\n\nThe&nbsp\;pro
 gram will be presented on Zoom on Thursday morning with the Zoom line open
 ing at 7 a.m.&nbsp\; The formal meeting including the program runs from 7:
 30-8:30 a.m.&nbsp\;&nbsp\;No registration is required\, and the program is
  free.\n\n\n\nThe meeting will be available via Zoom.&nbsp\; Click here to
  join the meeting Thursday morning.&nbsp\; The Zoom line will open shortly
  after 7 a.m.\n\n\n\n\n\n\n\nFeaturing: Stuart Webber! Ryan Hamilton!  Hal
  Beals!\n
CATEGORIES:Speakers
END:VEVENT
BEGIN:VTIMEZONE
TZID:America/Los_Angeles
X-LIC-LOCATION:America/Los_Angeles
BEGIN:STANDARD
DTSTART:20251102T010000
TZOFFSETFROM:-0700
TZOFFSETTO:-0800
TZNAME:PST
END:STANDARD
END:VTIMEZONE
END:VCALENDAR