BEGIN:VCALENDAR
VERSION:2.0
PRODID:-//wp-events-plugin.com//7.2.3.1//EN
TZID:America/Los_Angeles
X-WR-TIMEZONE:America/Los_Angeles
BEGIN:VEVENT
UID:290@usrotary.org
DTSTART;TZID=America/Los_Angeles:20250710T070000
DTEND;TZID=America/Los_Angeles:20250710T083000
DTSTAMP:20250709T204819Z
URL:https://usrotary.org/events/program-classification-talks-july-10-2025/
SUMMARY:Program:  Classification Talks\, July 10\, 2025
DESCRIPTION:\nJoin the&nbsp\;University Sunrise Rotary Club&nbsp\;for a pro
 gram featuring introductions to our members.\n\n\n\nThe&nbsp\;program will
  be presented on Zoom on Thursday morning with the Zoom line opening at 7 
 a.m.&nbsp\; The formal meeting including the program runs from 7:30-8:30 a
 .m.&nbsp\;&nbsp\;No registration is required\, and the program is free.\n\
 n\n\nThe meeting will be available via Zoom.&nbsp\;Click here to join the 
 meeting Thursday morning.&nbsp\; The Zoom line will open shortly after 7 a
 .m.\n\n\n\n\n\n\n\nMember talks from:  Scott Jamieson\, Heather Adams\, Jo
 e Diehl!!!\n\n\n\n\n\n\n\n\n
CATEGORIES:Speakers
END:VEVENT
BEGIN:VTIMEZONE
TZID:America/Los_Angeles
X-LIC-LOCATION:America/Los_Angeles
BEGIN:DAYLIGHT
DTSTART:20250309T030000
TZOFFSETFROM:-0800
TZOFFSETTO:-0700
TZNAME:PDT
END:DAYLIGHT
END:VTIMEZONE
END:VCALENDAR