BEGIN:VCALENDAR
VERSION:2.0
PRODID:-//wp-events-plugin.com//7.2.3.1//EN
TZID:America/Los_Angeles
X-WR-TIMEZONE:America/Los_Angeles
BEGIN:VEVENT
UID:359@usrotary.org
DTSTART;TZID=America/Los_Angeles:20260709T070000
DTEND;TZID=America/Los_Angeles:20260709T083000
DTSTAMP:20260202T191555Z
URL:https://usrotary.org/events/program-classification-talks-july-9-2026/
SUMMARY:Program: Classification Talks\, July 9\, 2026
DESCRIPTION:\nJoin the&nbsp\;University Sunrise Rotary Club&nbsp\;for a pro
 gram featuring Classification Talks from our members.\n\n\n\nThe&nbsp\;pro
 gram will be presented on Zoom on Thursday morning with the Zoom line open
 ing at 7 a.m.&nbsp\; The formal meeting including the program runs from 7:
 30-8:30 a.m.&nbsp\;&nbsp\;No registration is required\, and the program is
  free.\n\n\n\nThe meeting will be available via Zoom.&nbsp\; Click&nbsp\;h
 ere&nbsp\;to join the meeting Thursday morning.&nbsp\; The Zoom line will 
 open shortly after 7 a.m.\n
CATEGORIES:Speakers
END:VEVENT
BEGIN:VTIMEZONE
TZID:America/Los_Angeles
X-LIC-LOCATION:America/Los_Angeles
BEGIN:DAYLIGHT
DTSTART:20260308T030000
TZOFFSETFROM:-0800
TZOFFSETTO:-0700
TZNAME:PDT
END:DAYLIGHT
END:VTIMEZONE
END:VCALENDAR