BEGIN:VCALENDAR
VERSION:2.0
PRODID:-//wp-events-plugin.com//7.2.3.1//EN
TZID:America/Los_Angeles
X-WR-TIMEZONE:America/Los_Angeles
BEGIN:VEVENT
UID:343@usrotary.org
DTSTART;TZID=America/Los_Angeles:20260312T070000
DTEND;TZID=America/Los_Angeles:20260312T083000
DTSTAMP:20260225T010931Z
URL:https://usrotary.org/events/program-classification-talks-march-12-2026
 /
SUMMARY:Club Meeting:  The Big Taste
DESCRIPTION:\nJoin the University Sunrise Rotary Club for a program featu
 ring a preparation meeting for our Big Taste event.\n\n\n\nThe&nbsp\;progr
 am will be presented on Zoom on Thursday morning with the Zoom line openin
 g at 7 a.m.&nbsp\; The formal meeting including the program runs from 7:30
 -8:30 a.m.&nbsp\;&nbsp\;No registration is required\, and the program is f
 ree.\n\n\n\nThe meeting will be available via Zoom.&nbsp\; Click&nbsp\;her
 e&nbsp\;to join the meeting Thursday morning.&nbsp\; The Zoom line will op
 en shortly after 7 a.m.\n
CATEGORIES:Speakers
END:VEVENT
BEGIN:VTIMEZONE
TZID:America/Los_Angeles
X-LIC-LOCATION:America/Los_Angeles
BEGIN:DAYLIGHT
DTSTART:20260308T030000
TZOFFSETFROM:-0800
TZOFFSETTO:-0700
TZNAME:PDT
END:DAYLIGHT
END:VTIMEZONE
END:VCALENDAR