BEGIN:VCALENDAR
VERSION:2.0
PRODID:-//wp-events-plugin.com//7.2.3.1//EN
TZID:America/Los_Angeles
X-WR-TIMEZONE:America/Los_Angeles
BEGIN:VEVENT
UID:341@usrotary.org
DTSTART;TZID=America/Los_Angeles:20260205T070000
DTEND;TZID=America/Los_Angeles:20260205T083000
DTSTAMP:20251201T181324Z
URL:https://usrotary.org/events/program-club-meeting-february-5-2026/
SUMMARY:Program:  Club Meeting\, February 5\, 2026
DESCRIPTION:\nJoin the University Sunrise Rotary Club for a program featu
 ring a Club Meeting led by President Ed Bronsdon.\n\n\n\nThe&nbsp\;program
  will be presented in-person and on Zoom on Thursday morning.&nbsp\; The f
 ormal meeting including the program runs from 7:30-8:30 a.m.&nbsp\;&nbsp\;
 No registration is required\, and the program is free.\n\n\n\n\nThe in-per
 son meeting will be at the North Seattle Church (2150 N 122nd St\, Seattle
 ).  Doors open at 7:00 a.m. and the program begins at 7:30 a.m.\n\n\n\n\n
 \nClick here to join the meeting on Zoom.  The line will open shortly aft
 er 7:00 a.m.\n\n
CATEGORIES:Speakers
END:VEVENT
BEGIN:VTIMEZONE
TZID:America/Los_Angeles
X-LIC-LOCATION:America/Los_Angeles
BEGIN:STANDARD
DTSTART:20251102T010000
TZOFFSETFROM:-0700
TZOFFSETTO:-0800
TZNAME:PST
END:STANDARD
END:VTIMEZONE
END:VCALENDAR