BEGIN:VCALENDAR
VERSION:2.0
PRODID:-//wp-events-plugin.com//7.2.3.1//EN
TZID:America/Los_Angeles
X-WR-TIMEZONE:America/Los_Angeles
BEGIN:VEVENT
UID:344@usrotary.org
DTSTART;TZID=America/Los_Angeles:20260521T070000
DTEND;TZID=America/Los_Angeles:20260521T083000
DTSTAMP:20251201T182426Z
URL:https://usrotary.org/events/program-club-meeting-may-21-2026/
SUMMARY:Program: Club Meeting\, May 21\, 2026
DESCRIPTION:\nJoin the&nbsp\;University Sunrise Rotary Club&nbsp\;for a pro
 gram featuring a Club Meeting led by President Ed Bronsdon.\n\n\n\nThe&nbs
 p\;program will be presented in-person and on Zoom on Thursday morning.&nb
 sp\; The formal meeting including the program runs from 7:30-8:30 a.m.&nbs
 p\;&nbsp\;No registration is required\, and the program is free.\n\n\n\n\n
 The in-person meeting will be at the North Seattle Church (2150 N 122nd S
 t\, Seattle).  Doors open at 7:00 a.m. and the program begins at 7:30 a.m
 .\n\n\n\nClick here to join the meeting on Zoom.  The line will open sh
 ortly after 7:00 a.m.\n\n\n\n\n\n
CATEGORIES:Speakers
END:VEVENT
BEGIN:VTIMEZONE
TZID:America/Los_Angeles
X-LIC-LOCATION:America/Los_Angeles
BEGIN:DAYLIGHT
DTSTART:20260308T030000
TZOFFSETFROM:-0800
TZOFFSETTO:-0700
TZNAME:PDT
END:DAYLIGHT
END:VTIMEZONE
END:VCALENDAR