BEGIN:VCALENDAR
VERSION:2.0
PRODID:-//wp-events-plugin.com//7.2.3.1//EN
TZID:America/Los_Angeles
X-WR-TIMEZONE:America/Los_Angeles
BEGIN:VEVENT
UID:267@usrotary.org
DTSTART;TZID=America/Los_Angeles:20250130T070000
DTEND;TZID=America/Los_Angeles:20250130T083000
DTSTAMP:20250127T224238Z
URL:https://usrotary.org/events/program-club-networking/
SUMMARY:Program:  Club Networking
DESCRIPTION:\nThis week’s special speakers are you!&nbsp\; It is time to 
 share what has been going on in your lives.&nbsp\; As a twist\, the theme 
 this week is what is a fun or scenic place to visit in Washington State an
 d/or Oregon that others may have missed?&nbsp\; If possible\, be prepared 
 to show pictures (3 max! – you know who you are…).&nbsp\; This could b
 e attractions\, hobby stores (e.g. yarn store)\, scenic drives\, places to
  camp\, events\, etc.\n\n\n\nThe&nbsp\;program will be presented on Zoom o
 nly on Thursday morning with the Zoom line opening at 7 a.m.&nbsp\; The fo
 rmal meeting including the program runs from 7:30-8:30 a.m.&nbsp\;&nbsp\;N
 o registration is required\, and the program is free.\n\n\n\nJoin Zoom Mee
 ting\n\n\n\nMeeting ID: 946 736 1600\n\n\n\nPasscode: 255132\n\n\n\nOne ta
 p mobile\n\n\n\n+12532050468\,\,9467361600#\,\,\,\,*255132# US\n\n\n\n+125
 32158782\,\,9467361600#\,\,\,\,*255132# US (Tacoma)\n
CATEGORIES:Speakers
END:VEVENT
BEGIN:VTIMEZONE
TZID:America/Los_Angeles
X-LIC-LOCATION:America/Los_Angeles
BEGIN:STANDARD
DTSTART:20241103T010000
TZOFFSETFROM:-0700
TZOFFSETTO:-0800
TZNAME:PST
END:STANDARD
END:VTIMEZONE
END:VCALENDAR