BEGIN:VCALENDAR
VERSION:2.0
PRODID:-//wp-events-plugin.com//7.2.3.1//EN
TZID:America/Los_Angeles
X-WR-TIMEZONE:America/Los_Angeles
BEGIN:VEVENT
UID:285@usrotary.org
DTSTART;TZID=America/Los_Angeles:20251016T070000
DTEND;TZID=America/Los_Angeles:20251016T083000
DTSTAMP:20250806T223932Z
URL:https://usrotary.org/events/program-colleen-pacem-ctp-beyond-booking-t
 he-true-value-of-a-travel-advisor-august-7-2025/
SUMMARY:Program:  Colleen Pacem\, CTP\, Branches and Blossoms Travel\, "Bey
 ond Booking:  The True Value of a Travel Advisor\," October 16\, 2025
DESCRIPTION:\nJoin the&nbsp\;University Sunrise Rotary Club&nbsp\;for a pro
 gram featuring Collen Pacem speaking on the value of working with a travel
  advisor.\n\n\n\nThe&nbsp\;program will be presented in person and on Zoom
  on Thursday morning.&nbsp\; The formal meeting including the program runs
  from 7:30-8:30 a.m.&nbsp\;&nbsp\;No registration is required\, and the pr
 ogram is free.\n\n\n\n\nThe in-person meeting will be at the North Seattle
  Church (2150 N 122nd\, Seattle). Doors open at 7:00 a.m. and the program 
 begins at 7:30 a.m.\n\n\n\nClick here to join the meeting on Zoom.&nbsp\; 
 The line will open shortly after 7:00 a.m.\n\n\n\n\n\n\n\n\n\n\n\n\nPlanni
 ng a trip can be overwhelming.  Colleen Pacem of Branches and Blossoms Tra
 vel shares how working with a travel advisor shifts the experience from st
 ress to joy. Learn how expert support helps you focus on connection and di
 scovery\, while the details are handled for you.\n\n\n\nColleen Pacem is t
 he founder of Branches and Blossoms Travel\, where she designs personalize
 d journeys that foster connection and joy. A lifelong traveler with a deep
  curiosity and thoughtful approach\, she helps clients create seamless exp
 eriences\, from solo adventures to multigenerational trips.\n\n\n\n\n
CATEGORIES:Speakers
END:VEVENT
BEGIN:VTIMEZONE
TZID:America/Los_Angeles
X-LIC-LOCATION:America/Los_Angeles
BEGIN:DAYLIGHT
DTSTART:20250309T030000
TZOFFSETFROM:-0800
TZOFFSETTO:-0700
TZNAME:PDT
END:DAYLIGHT
END:VTIMEZONE
END:VCALENDAR