BEGIN:VCALENDAR
VERSION:2.0
PRODID:-//wp-events-plugin.com//7.2.3.1//EN
TZID:America/Los_Angeles
X-WR-TIMEZONE:America/Los_Angeles
BEGIN:VEVENT
UID:336@usrotary.org
DTSTART;TZID=America/Los_Angeles:20260226T070000
DTEND;TZID=America/Los_Angeles:20260226T083000
DTSTAMP:20251105T183309Z
URL:https://usrotary.org/events/program-dale-willard-life-science-washingt
 on-get-to-know-your-washington-life-science-community-february-26-2026/
SUMMARY:Program:  Dale Willard\, Life Science Washington\, "Get to Know You
 r Washington Life Science Community\," February 26\, 2026
DESCRIPTION:\nJoin the University Sunrise Rotary Club for a program featu
 ring Dale Willard of Life Science Washington.\n\n\n\nThe&nbsp\;program wil
 l be presented on Zoom on Thursday morning with the Zoom line opening at 7
  a.m.&nbsp\; The formal meeting including the program runs from 7:30-8:30 
 a.m.&nbsp\;&nbsp\;No registration is required\, and the program is free.\n
 \n\n\nThe meeting will be available via Zoom.&nbsp\;Click here to join the
  meeting Thursday morning.&nbsp\; The Zoom line will open shortly after 7 
 a.m.\n\n\n\n\n\n\n\n\n\n\n\nDr. Dale Willard is Director of Member Service
 s at Life Science WA\, serving as the member liaison to the nation’s 9th
  largest life science hub and a long-time mentor for area startups through
  the Life Science WA Institute’s WIN program and UW’s CoMotion mentors
 hip program.  \n\n\n\nDr. Willard has been in life sciences for his entir
 e career which\, let’s just say\, is over 30 years.  He founded and led
  two companies\, Advanced MicroLabs and Carbo Analytics\, for 14 yrs in Ft
 . Collins\, CO.  Those companies were acquired by Mettler Toledo in 2015.
   \n\n\n\nHe received his Ph.D. in Analytical Chemistry from Colorado Sta
 te University (Go Rammies!) and held a post-doctorate fellowship for two y
 ears at the University of Tuebingen\, Germany.  \n\n\n\nHe is married to 
 a woman he doesn’t deserve and has three children he does deserve\, a ca
 t\, and 8 chickens and enjoys running and biking.\n\n\n\n\n
CATEGORIES:Speakers
END:VEVENT
BEGIN:VTIMEZONE
TZID:America/Los_Angeles
X-LIC-LOCATION:America/Los_Angeles
BEGIN:STANDARD
DTSTART:20251102T010000
TZOFFSETFROM:-0700
TZOFFSETTO:-0800
TZNAME:PST
END:STANDARD
END:VTIMEZONE
END:VCALENDAR