BEGIN:VCALENDAR
VERSION:2.0
PRODID:-//wp-events-plugin.com//7.2.3.1//EN
TZID:America/Los_Angeles
X-WR-TIMEZONE:America/Los_Angeles
BEGIN:VEVENT
UID:257@usrotary.org
DTSTART;TZID=America/Los_Angeles:20241121T070000
DTEND;TZID=America/Los_Angeles:20241121T083000
DTSTAMP:20241114T211518Z
URL:https://usrotary.org/events/program-dave-wellman-and-marc-manzo-museum
 -of-flight-the-museum-of-flight-and-the-vietnam-veterans-memorial-park-nov
 ember-21-2024/
SUMMARY:Program:  Dave Wellman and Marc Manzo\, Museum of Flight\, "The Mus
 eum of Flight and the Vietnam Veterans Memorial Park\," November 21\, 2024
DESCRIPTION:\nJoin the University Sunrise Rotary Club for a program featu
 ring Marc Manzo and David Wellman of the Museum of Flight.\n\n\n\nThe&nbsp
 \;program will be presented in-person and on Zoom on Thursday morning info
 rmally beginning at 7 a.m. The formal meeting including the program runs f
 rom 7:30-8:30 a.m. No registration is required\, and the program is free.\
 n\n\n\nThe in-person meeting will be at the Wedgwood Community Church at 8
 201 30th Ave NE\, Seattle.\n\n\n\nThe meeting will also be available via Z
 oom.&nbsp\;You can click here to join the Zoom meeting.\n\n\n\n\n\n\n\n\n\
 n\n\nMarc Manzo\n\n\n\nMarc Manzo has served as a Major Gift Officer at th
 e Museum of Flight for nine years\, working closely with donors who suppor
 t the Museum. He is particularly passionate about the Museum's STEM (Scien
 ce\, Technology\, Engineering\, and Mathematics) education programs\, whic
 h provide immersive learning opportunities for young people. Marc is excit
 ed to see these programs in action\, especially when he gets to see the de
 dication of the Museum’s docents and volunteers—like Dave Wellman—wh
 o engage young learners.\n\n\n\n\n\n\n\nDave Wellman\n\n\n\nDave Wellman i
 s a 31-year experienced Docent at the Museum of Flight. His professional c
 areer started after graduating from Purdue University where he received a 
 BSEE degree and an Air Force Reserve Commission After a short stint as an 
 Engineer at Chrysler\, he served as a pilot flying B-47’s and B-52’s\,
  culminating in two combat tours in Vietnam.  Dave then joined Boeing whe
 re his career consisted of primarily test and integration of air launched 
 missiles.  \n\n\n\nAt the Museum\, he works with children’s education 
 programs and is part of the Speaker’s Bureau giving talks to community g
 roups and schools about the B-52 and it’s involvement in the Vietnam War
 .&nbsp\;\n\n\n\n\n
CATEGORIES:Speakers
END:VEVENT
BEGIN:VTIMEZONE
TZID:America/Los_Angeles
X-LIC-LOCATION:America/Los_Angeles
BEGIN:STANDARD
DTSTART:20241103T010000
TZOFFSETFROM:-0700
TZOFFSETTO:-0800
TZNAME:PST
END:STANDARD
END:VTIMEZONE
END:VCALENDAR