BEGIN:VCALENDAR
VERSION:2.0
PRODID:-//wp-events-plugin.com//7.2.3.1//EN
TZID:America/Los_Angeles
X-WR-TIMEZONE:America/Los_Angeles
BEGIN:VEVENT
UID:262@usrotary.org
DTSTART;TZID=America/Los_Angeles:20250109T070000
DTEND;TZID=America/Los_Angeles:20250109T083000
DTSTAMP:20250103T171010Z
URL:https://usrotary.org/events/program-erik-ramsing-forensic-architecture
 -january-9-2025/
SUMMARY:Program:   Erik Ramsing\, Forensic Architecture\, January 9\, 2025
DESCRIPTION:\nJoin the University Sunrise Rotary Club for a program featu
 ring our member\, Eric Ramsing.\n\n\n\nThe&nbsp\;program will be presented
  on Zoom on Thursday morning with the Zoom line opening at 7 a.m.&nbsp\; T
 he formal meeting including the program runs from 7:30-8:30 a.m.&nbsp\;&nb
 sp\;No registration is required\, and the program is free.\n\n\n\nThe meet
 ing will be available via Zoom. &nbsp\;Click here to join the meeting Thur
 sday morning.&nbsp\; The Zoom line will open shortly after 7 a.m.\n\n\n\n\
 n\n\n\n\n\n\n\nERIC RAMSING\, AIA\, NCARB SENIOR ARCHITECT\n\n\n\nAs Dimen
 sional’s Senior Architect\, Eric brings over 40 years of architectural e
 xperience to our clients.  His experience includes hundreds of commercial
  low- and mid-rise\, restaurant\, mixed-use and multifamily developments t
 ogether with hundreds of tenant improvement and building rehabilitation pr
 ojects.Eric’s expertise equips him with a unique understanding of buildi
 ng types and potential construction issues. He is adept at recognizing\, a
 nalyzing\, diagnosing and formulating design repairs and performing constr
 uction observation for virtually any type of building or occupancy.When Er
 ic isn’t at work\, he enjoys skiing\, hiking\, world travel\, classic ca
 r restoration\, fixing things and inventing complex solutions for simple m
 echanical problems.\n\n\n\n\n
CATEGORIES:Speakers
END:VEVENT
BEGIN:VTIMEZONE
TZID:America/Los_Angeles
X-LIC-LOCATION:America/Los_Angeles
BEGIN:STANDARD
DTSTART:20241103T010000
TZOFFSETFROM:-0700
TZOFFSETTO:-0800
TZNAME:PST
END:STANDARD
END:VTIMEZONE
END:VCALENDAR