BEGIN:VCALENDAR
VERSION:2.0
PRODID:-//wp-events-plugin.com//7.2.3.1//EN
TZID:America/Los_Angeles
X-WR-TIMEZONE:America/Los_Angeles
BEGIN:VEVENT
UID:368@usrotary.org
DTSTART;TZID=America/Los_Angeles:20260827T070000
DTEND;TZID=America/Los_Angeles:20260827T083000
DTSTAMP:20260210T210939Z
URL:https://usrotary.org/events/program-holly-williams-womens-university-c
 lub-august-27-2026/
SUMMARY:Program:  Holly Williams\, Women's University Club\, August 27\, 20
 26
DESCRIPTION:\nJoin the University Sunrise Rotary Club for a program featu
 ring Holly Williams of the Women's University Club.\n\n\n\nThe&nbsp\;progr
 am will be presented on Zoom on Thursday morning with the Zoom line openin
 g at 7 a.m.&nbsp\; The formal meeting including the program runs from 7:30
 -8:30 a.m.&nbsp\;&nbsp\;No registration is required\, and the program is f
 ree.\n\n\n\nThe meeting will be available via Zoom.  Click here to join t
 he meeting Thursday morning.  The Zoom line will open shortly after 7 a.m
 .\n
CATEGORIES:Speakers
END:VEVENT
BEGIN:VTIMEZONE
TZID:America/Los_Angeles
X-LIC-LOCATION:America/Los_Angeles
BEGIN:DAYLIGHT
DTSTART:20260308T030000
TZOFFSETFROM:-0800
TZOFFSETTO:-0700
TZNAME:PDT
END:DAYLIGHT
END:VTIMEZONE
END:VCALENDAR