BEGIN:VCALENDAR
VERSION:2.0
PRODID:-//wp-events-plugin.com//7.2.3.1//EN
TZID:America/Los_Angeles
X-WR-TIMEZONE:America/Los_Angeles
BEGIN:VEVENT
UID:372@usrotary.org
DTSTART;TZID=America/Los_Angeles:20260924T070000
DTEND;TZID=America/Los_Angeles:20260924T083000
DTSTAMP:20260405T201902Z
URL:https://usrotary.org/events/program-joe-diehl-job-burnout-september-24
 -2026/
SUMMARY:Program:  Joe Diehl\, "Job Burnout\," September 24\, 2026
DESCRIPTION:\nJoin the University Sunrise Rotary Club for a program featu
 ring our member\, Joe Diehl\, speaking on the topic of Job Burnout.\n\n\n\
 nThe&nbsp\;program will be presented on Zoom on Thursday morning with the 
 Zoom line opening at 7 a.m.&nbsp\; The formal meeting including the progra
 m runs from 7:30-8:30 a.m.&nbsp\;&nbsp\;No registration is required\, and 
 the program is free.\n\n\n\nThe meeting will be available via Zoom.&nbsp\;
  Click here to join the meeting Thursday morning.&nbsp\; The Zoom line wil
 l open shortly after 7 a.m.\n\n\n\n\n\n\n\nJoe Diehl\n\n\n\nJoseph B. Dieh
 l CPA JD FMCHC joined University Sunrise Rotary Club in 2021. Joe’s car
 eer path has taken him from the for-profit sector as a Chief Financial Off
 icer--to more recently--the nonprofit sector with a focus on Tribal housin
 g advocacy and support.  Joe officially retired in 2016 yet continues to 
 provide consulting services and facilitating workshops in the nonprofit se
 ctor\, as a way of “giving back.” His personal mission is to inspire 
 and empower others who share his core values and beliefs.  \n\n\n\nJoe Die
 hl has a law degree from the University of Illinois--Chicago\, a BS in Acc
 ountancy from Northern Illinois University\, and is Certified Public Accou
 ntant (CPA).\n\n\n\nHis consultancy\, Diehl &amp\; Co. LLC\, began its pro
 blem-solving journey in 1996\, when its association management skills were
  put to the test – running three affordable housing organizations. As we
  expanded our experience\, we began providing consulting services\, event 
 management\, fundraising (including auctioneering services)\, coaching –
  and even creating 20 topics for keynote and breakout session engagements 
 to a wide variety of organizations and individuals in all walks of life. E
 mail him at joe@joediehl.com!\n\n\n\nJoe will speak to us one of the many
  topics for which he is expert:  Job Burnout.\n
CATEGORIES:Speakers
END:VEVENT
BEGIN:VTIMEZONE
TZID:America/Los_Angeles
X-LIC-LOCATION:America/Los_Angeles
BEGIN:DAYLIGHT
DTSTART:20260308T030000
TZOFFSETFROM:-0800
TZOFFSETTO:-0700
TZNAME:PDT
END:DAYLIGHT
END:VTIMEZONE
END:VCALENDAR