BEGIN:VCALENDAR
VERSION:2.0
PRODID:-//wp-events-plugin.com//7.2.3.1//EN
TZID:America/Los_Angeles
X-WR-TIMEZONE:America/Los_Angeles
BEGIN:VEVENT
UID:339@usrotary.org
DTSTART;TZID=America/Los_Angeles:20260423T070000
DTEND;TZID=America/Los_Angeles:20260423T083000
DTSTAMP:20260312T142141Z
URL:https://usrotary.org/events/program-jonathan-mayer-professor-emeritus-
 university-of-washington-april-23-2026/
SUMMARY:Program: Jonathan Mayer\, Professor Emeritus\, UW\, “Long COVID: 
 The Hidden and Persistent Burden\,” April 23\, 2026
DESCRIPTION:\nJoin the&nbsp\;University Sunrise Rotary Club&nbsp\;for a pro
 gram featuring Jonathan Mayer.\n\n\n\nThe&nbsp\;program will be presented 
 on Zoom on Thursday morning with the Zoom line opening at 7 a.m.&nbsp\; Th
 e formal meeting including the program runs from 7:30-8:30 a.m.&nbsp\;&nbs
 p\;No registration is required\, and the program is free.\n\n\n\nThe meeti
 ng will be available via Zoom.&nbsp\; Click here to join the meeting Thurs
 day morning.&nbsp\; The Zoom line will open shortly after 7 a.m.\n\n\n\n\n
 \n\n\nJonathan Mayer\, Professor Emeritus\, University of Washington\n\n\n
 \nJonathan Mayer is a Professor of Epidemiology and Geography at the Unive
 rsity of Washington.&nbsp\; He is an Adjunct Professor in the Department o
 f Medicine\, (Division of Infectious Diseases)\, Department of Family Medi
 cine\, and in Health Services\, Global Health. He is Program Director\, jo
 int degree: MPH in Epidemiology/PhD Biocultural Anthropology.\n
CATEGORIES:Speakers
END:VEVENT
BEGIN:VTIMEZONE
TZID:America/Los_Angeles
X-LIC-LOCATION:America/Los_Angeles
BEGIN:DAYLIGHT
DTSTART:20260308T030000
TZOFFSETFROM:-0800
TZOFFSETTO:-0700
TZNAME:PDT
END:DAYLIGHT
END:VTIMEZONE
END:VCALENDAR