BEGIN:VCALENDAR
VERSION:2.0
PRODID:-//wp-events-plugin.com//7.2.3.1//EN
TZID:America/Los_Angeles
X-WR-TIMEZONE:America/Los_Angeles
BEGIN:VEVENT
UID:265@usrotary.org
DTSTART;TZID=America/Los_Angeles:20250417T070000
DTEND;TZID=America/Los_Angeles:20250417T083000
DTSTAMP:20250114T192028Z
URL:https://usrotary.org/events/program-jordan-van-hoozer-teen-feed-nouris
 hing-youth-futures-april-17-2025/
SUMMARY:Program:  Jordan Van Hoozer\, "Teen Feed: Nourishing Youth Futures\
 ," April 17\, 2025
DESCRIPTION:\nJoin the University Sunrise Rotary Club for a program featu
 ring Jordan Van Hoozer\, the Administrative Director of Teen Feed.\n\n\n\n
 The&nbsp\;program will be presented in person and on Zoom on Thursday morn
 ing.&nbsp\; The formal meeting including the program runs from 7:30-8:30 a
 .m.&nbsp\;&nbsp\;No registration is required\, and the program is free.\n\
 n\n\n\nThe in-person meeting will be at the Wedgwood Community Church at 8
 201 30th Ave NE\, Seattle. Doors open at 7:00 a.m. and the program begins 
 at 7:30 a.m.\n\n\n\n\n\nClick here to join the meeting on Zoom.  The line
  will open shortly after 7:00 a.m.\n\n\n\n\n\n\n\n\n\n\n\n\nTeen Feed wor
 ks with the community to offer support to meet basic needs\, build strong 
 relationships\, and ally with houseless youth as they meet their future of
 f the streets. \n\n\n\nJordan Van Hoozer (she/they) has been with Teen Fe
 ed for four years\, first as the Volunteer Services Manager and now as the
  Administrative Director. She came to Teen Feed with experience in volunt
 eer management\, youth education\, and food access\, and built the role of
  Administrative Director after completing a certificate in Nonprofit Manag
 ement from the University of Washington. Teen Feed’s steadfast volunteer
 s (such as University Sunrise Rotary’s meal team!) and kind\, humorous\
 , resilient guests continue to inspire her every day\, and she is honored
  to share Teen Feed’s mission\, work\, and programs.\n\n\n\n\n\n\n\nThan
 ks to Dave Mushen for his help with this program.\n
CATEGORIES:Speakers
END:VEVENT
BEGIN:VTIMEZONE
TZID:America/Los_Angeles
X-LIC-LOCATION:America/Los_Angeles
BEGIN:DAYLIGHT
DTSTART:20250309T030000
TZOFFSETFROM:-0800
TZOFFSETTO:-0700
TZNAME:PDT
END:DAYLIGHT
END:VTIMEZONE
END:VCALENDAR