BEGIN:VCALENDAR
VERSION:2.0
PRODID:-//wp-events-plugin.com//7.2.3.1//EN
TZID:America/Los_Angeles
X-WR-TIMEZONE:America/Los_Angeles
BEGIN:VEVENT
UID:358@usrotary.org
DTSTART;TZID=America/Los_Angeles:20260611T070000
DTEND;TZID=America/Los_Angeles:20260611T083000
DTSTAMP:20260203T212405Z
URL:https://usrotary.org/events/program-karen-andrew-creating-a-world-with
 out-als-community-care-and-the-power-of-partnership-july-2-2026/
SUMMARY:Program:  Karen Andrew\, "Creating a World Without ALS: Community\,
  Care\, and the Power of Partnership\," June 11\, 2026
DESCRIPTION:\nJoin the&nbsp\;University Sunrise Rotary Club&nbsp\;for a pro
 gram featuring Karen Andrew of the ALS Association.\n\n\n\nThe&nbsp\;progr
 am will be presented on Zoom on Thursday morning with the Zoom line openin
 g at 7 a.m.&nbsp\; The formal meeting including the program runs from 7:30
 -8:30 a.m.&nbsp\;&nbsp\;No registration is required\, and the program is f
 ree.\n\n\n\nThe meeting will be available via Zoom.  Click here to join t
 he meeting Thursday morning.  The Zoom line will open shortly after 7 a.m
 .\n\n\n\n\n\n\n\n\n\n\n\nKaren Andrew is a Development Manager with The AL
 S Association in the Pacific Northwest\, where she partners with community
  leaders\, volunteers\, and corporate supporters to advance care\, advocac
 y\, and research for people living with ALS and their families. She leads 
 signature fundraising events\, including the Ride to Defeat ALS Snoqualmie
  Valley and the Seattle Golf Classic\, which unite people around a common 
 mission: to create a world without ALS.\n\n\n\nKaren holds a master’s de
 gree in Nonprofit Leadership from Seattle University and brings a relation
 ship-centered\, community-driven approach to her work. Through her experie
 nce\, she has seen firsthand the impact local service organizations like R
 otary can have in creating meaningful\, lasting change.\n\n\n\nShe is pass
 ionate about building authentic partnerships\, sharing the stories of thos
 e affected by ALS\, and helping communities understand how their time\, ta
 lent\, and resources can accelerate progress toward better treatment and\,
  ultimately\, a cure.\n
CATEGORIES:Speakers
END:VEVENT
BEGIN:VTIMEZONE
TZID:America/Los_Angeles
X-LIC-LOCATION:America/Los_Angeles
BEGIN:DAYLIGHT
DTSTART:20260308T030000
TZOFFSETFROM:-0800
TZOFFSETTO:-0700
TZNAME:PDT
END:DAYLIGHT
END:VTIMEZONE
END:VCALENDAR