BEGIN:VCALENDAR
VERSION:2.0
PRODID:-//wp-events-plugin.com//7.2.3.1//EN
TZID:America/Los_Angeles
X-WR-TIMEZONE:America/Los_Angeles
BEGIN:VEVENT
UID:243@usrotary.org
DTSTART;TZID=America/Los_Angeles:20241010T070000
DTEND;TZID=America/Los_Angeles:20241010T083000
DTSTAMP:20241016T012153Z
URL:https://usrotary.org/events/program-kim-kelly-the-health-center-grief-
 counseling-october-10-2024/
SUMMARY:Program:  Kim Kelly and Sonja Whitaker\, The Healing Center\, "Why 
 Grief Counseling is so Necessary\," October 10\, 2024
DESCRIPTION:\nJoin the University Sunrise Rotary Club for a program featu
 ring Kim Kelly and Sonja Whitaker.\n\n\n\nThe&nbsp\;program will be presen
 ted on Zoom on Thursday morning with the Zoom line opening at 7 a.m. The f
 ormal meeting including the program runs from 7:30-8:30 a.m. No registrati
 on is required\, and the program is free.\n\n\n\nClick here to join the me
 eting Thursday morning.\n\n\n\n\n\n\n\nAn Introduction to the Healing Cent
 er:  Why free grief support is so necessary in our community\n\n\n\n\n\n\
 n\nKim Kelly (left) has a background in advertising and marketing. Having 
 lost her own mother at the age of six\, Kim understands the importance of 
 the Center's mission to support grieving families.  She is our current Boa
 rd President and a former volunteer facilitator for Children Grieve\, Too 
 as well as The Healing Center's Kid's Groups.\n\n\n\n\n\n\n\nSonja Whitake
 r\, MS\, LMFT\, (right) is Center Director of The Healing Center.  Sonja h
 as lived in Seattle (almost) all her life\, so rain and moss are in her DN
 A. She grew up in a family business\, has worked in non-profits and higher
  ed\, and finally landed in the field of mental health. The roles of wife\
 , mom\, daughter\, and friend are the most important parts of her life\, b
 ut the process of becoming a licensed therapist has been intensely meaning
 ful.\n
CATEGORIES:Speakers
END:VEVENT
BEGIN:VTIMEZONE
TZID:America/Los_Angeles
X-LIC-LOCATION:America/Los_Angeles
BEGIN:DAYLIGHT
DTSTART:20240310T030000
TZOFFSETFROM:-0800
TZOFFSETTO:-0700
TZNAME:PDT
END:DAYLIGHT
END:VTIMEZONE
END:VCALENDAR