BEGIN:VCALENDAR
VERSION:2.0
PRODID:-//wp-events-plugin.com//7.2.3.1//EN
TZID:America/Los_Angeles
X-WR-TIMEZONE:America/Los_Angeles
BEGIN:VEVENT
UID:367@usrotary.org
DTSTART;TZID=America/Los_Angeles:20260702T070000
DTEND;TZID=America/Los_Angeles:20260702T083000
DTSTAMP:20260203T212124Z
URL:https://usrotary.org/events/program-mary-brunkow-july-2-2026/
SUMMARY:Program:  Mary Brunkow\, July 2\, 2026
DESCRIPTION:\nJoin the University Sunrise Rotary Club for a program featu
 ring Nobel Prize recipient Mary Brunkow.\n\n\n\nThe&nbsp\;program will be 
 presented in-person and on Zoom on Thursday morning.&nbsp\; The formal mee
 ting including the program runs from 7:30-8:30 a.m.&nbsp\;&nbsp\;No regist
 ration is required\, and the program is free.\n\n\n\n\nThe in-person meeti
 ng will be at the North Seattle Church (2150 N 122nd St\, Seattle).  Door
 s open at 7:00 a.m. and the program begins at 7:30 a.m.\n\n\n\n\n\nClick h
 ere to join the meeting on Zoom.  The line will open shortly after 7:00 a
 .m.\n\n\n\n\n\n\n\n\n\n\n\n\n\n
CATEGORIES:Speakers
END:VEVENT
BEGIN:VTIMEZONE
TZID:America/Los_Angeles
X-LIC-LOCATION:America/Los_Angeles
BEGIN:DAYLIGHT
DTSTART:20260308T030000
TZOFFSETFROM:-0800
TZOFFSETTO:-0700
TZNAME:PDT
END:DAYLIGHT
END:VTIMEZONE
END:VCALENDAR