BEGIN:VCALENDAR
VERSION:2.0
PRODID:-//wp-events-plugin.com//7.2.3.1//EN
TZID:America/Los_Angeles
X-WR-TIMEZONE:America/Los_Angeles
BEGIN:VEVENT
UID:240@usrotary.org
DTSTART;TZID=America/Los_Angeles:20240822T070000
DTEND;TZID=America/Los_Angeles:20240822T083000
DTSTAMP:20240814T222905Z
URL:https://usrotary.org/events/program-michael-bronsdon-puget-sounds-tria
 ngle-of-fire-forts-worden-flagler-and-casey-august-22-2204-2/
SUMMARY:Program: Michael Bronsdon\, “Puget Sound’s Triangle of Fire: Fo
 rts Worden\, Flagler\, and Casey\,” August 22\, 2204
DESCRIPTION:\nJoin the&nbsp\;University Sunrise Rotary Club&nbsp\;for a pro
 gram featuring Club Member Michael Bronsdon and a talk on the history of P
 uget Sound’s Forts.\n\n\n\nThe&nbsp\;program will be presented on Zoom o
 n Thursday morning with the Zoom line opening at 7 a.m. The formal meeting
  including the program runs from 7:30-8:30 a.m. No registration is require
 d\, and the program is free.\n\n\n\nClick here to join the meeting&nbsp\;T
 hursday morning.\n\n\n\n\n\n\n\nForts Worden\, Flagler\, and Casey were de
 veloped to prevent enemy incursions into Puget Sound. When were they built
 \, and what became of them?\n\n\n\n\n\n\n\nMichael Bronsdon is a Pacific N
 orthwest native who grew up camping and learning about the natural and hum
 an histories of the West. This fed a lifelong interest in history and the 
 outdoors.\n\n\n\nMichael earned B.A. (History)\, and MBA degrees from the 
 University of Washington. His professional career included several years i
 n book publishing\, followed by 26 years in the software/technology indust
 ry.\n\n\n\nMichael relocated to Bainbridge Island (Fletcher Bay neighborho
 od) in 2021 with his wife Cathy. He appreciates learning and sharing the s
 tories of the communities of Bainbridge Island and the Pacific Northwest.\
 n\n\n\nHe volunteers with the Bainbridge History Museum and joined the boa
 rd earlier this year.\n\n\n\nHe is a passionate skier and hiker\, and also
  enjoys choral singing\, winemaking\, photography and travel.\n
CATEGORIES:Speakers
END:VEVENT
BEGIN:VTIMEZONE
TZID:America/Los_Angeles
X-LIC-LOCATION:America/Los_Angeles
BEGIN:DAYLIGHT
DTSTART:20240310T030000
TZOFFSETFROM:-0800
TZOFFSETTO:-0700
TZNAME:PDT
END:DAYLIGHT
END:VTIMEZONE
END:VCALENDAR