BEGIN:VCALENDAR
VERSION:2.0
PRODID:-//wp-events-plugin.com//7.2.3.1//EN
TZID:America/Los_Angeles
X-WR-TIMEZONE:America/Los_Angeles
BEGIN:VEVENT
UID:269@usrotary.org
DTSTART;TZID=America/Los_Angeles:20250529T070000
DTEND;TZID=America/Los_Angeles:20250529T083000
DTSTAMP:20250204T185819Z
URL:https://usrotary.org/events/program-michelle-moffitt-and-andrew-mckenz
 ie-navigating-midlife-transitions-in-the-work-environment-may-29-2025/
SUMMARY:Program:  Michelle Moffitt and Andrew McMasters\, "Navigating Midli
 fe Transitions in the Work Environment\," May 29\, 2025
DESCRIPTION:\nJoin the University Sunrise Rotary Club for a program featu
 ring Michelle Moffitt and Andrew McMasters.\n\n\n\nThe&nbsp\;program will 
 be presented in person and on Zoom on Thursday morning.&nbsp\; The formal 
 meeting including the program runs from 7:30-8:30 a.m.&nbsp\;&nbsp\;No reg
 istration is required\, and the program is free.\n\n\n\n\nThe in-person me
 eting will be at the Wedgwood Community Church at 8201 30th Ave NE\, Seatt
 le. Doors open at 7:00 a.m. and the program begins at 7:30 a.m.\n\n\n\n\n\
 nClick here to join the meeting on Zoom.&nbsp\; The line will open shortly
  after 7:00 a.m.\n\n\n\n\n\n\n\n\nAndrew McMasters is an expert on listeni
 ng techniques for the workplace and general life.   Michelle Moffitt coac
 hes people on how to adapt and make healthy adjustments to major changes i
 n their lives.\n\n\n\n\n\n\n\nThanks to Paul Meehan for his work on this p
 rogram.\n
CATEGORIES:Speakers
END:VEVENT
BEGIN:VTIMEZONE
TZID:America/Los_Angeles
X-LIC-LOCATION:America/Los_Angeles
BEGIN:DAYLIGHT
DTSTART:20250309T030000
TZOFFSETFROM:-0800
TZOFFSETTO:-0700
TZNAME:PDT
END:DAYLIGHT
END:VTIMEZONE
END:VCALENDAR