BEGIN:VCALENDAR
VERSION:2.0
PRODID:-//wp-events-plugin.com//7.2.3.1//EN
TZID:America/Los_Angeles
X-WR-TIMEZONE:America/Los_Angeles
BEGIN:VEVENT
UID:338@usrotary.org
DTSTART;TZID=America/Los_Angeles:20260402T070000
DTEND;TZID=America/Los_Angeles:20260402T083000
DTSTAMP:20251112T205413Z
URL:https://usrotary.org/events/program-mike-rea-a-time-to-climeon-buildin
 g-climate-hope-and-resilience-through-giving-april-2-2026/
SUMMARY:Program:  Mike Rea\, “A Time to ClimeOn: Building Climate Hope a
 nd Resilience Through Giving\," April 2\, 2026
DESCRIPTION:\nJoin the University Sunrise Rotary Club for a program featu
 ring Mike Rea of ClimeOn.\n\n\n\nThe&nbsp\;program will be presented in-pe
 rson and on Zoom on Thursday morning.&nbsp\; The formal meeting including 
 the program runs from 7:30-8:30 a.m.&nbsp\;&nbsp\;No registration is requi
 red\, and the program is free.\n\n\n\n\nThe in-person meeting will be at t
 he North Seattle Church (2150 N 122nd St\, Seattle).&nbsp\; Doors open at 
 7:00 a.m. and the program begins at 7:30 a.m.\n\n\n\n\n\nClick here to joi
 n the meeting on Zoom.&nbsp\; The line will open shortly after 7:00 a.m.\n
 \n\n\n\n\n\n\n\nJoin us for an interactive conversation on how charitable 
 giving at any level can support climate happiness and hope\, and make a di
 fference.&nbsp\;\n\n\n\n\n\n\n\nToday's storms around climate progress are
  intense. &nbsp\;Many feel increasingly anxious\, angry and helpless\, fac
 ed with new headwinds and challenges. Yet real tailwinds remain\, and many
  want to do more. Together we’ll navigate the storms and opportunities\,
  covering the latest science\, what solutions really move the needle\, and
  how you can use any size of charitable donation to cultivate growth and r
 esilience\, including in your families.\n\n\n\nOur guide is philanthropic 
 entrepreneur Mike Rea\, founder of ClimeOn\, a new platform for helping th
 e climate-concerned find ways to give that are both effective and personal
 ly meaningful. They prioritize meeting people where they are\, and helping
  them find their own paths forward\, using a blend of climate philanthropy
 \, science and psychology. &nbsp\;You’ll leave lunch with new ideas and 
 new tools for staying grounded and supporting others.\n\n\n\nMike Rea&nbsp
 \;has advanced several innovative efforts in philanthropy and social impac
 t. &nbsp\;His journey as a social entrepreneur started as co-founder of th
 e US-Asia grant facilitator Give2Asia\, and continued in wealth management
  (Bank of America’s philanthropic client group)\, education and disaster
  response (The Gates Foundation)\, and global travel\, tourism and sustain
 ability (Tourism Cares). &nbsp\;Prior to founding ClimeOn he led the Seatt
 le-based E8 angels climatetech investing group\, which included adding new
  options for impact investing with charitable dollars.\n
CATEGORIES:Speakers
END:VEVENT
BEGIN:VTIMEZONE
TZID:America/Los_Angeles
X-LIC-LOCATION:America/Los_Angeles
BEGIN:DAYLIGHT
DTSTART:20260308T030000
TZOFFSETFROM:-0800
TZOFFSETTO:-0700
TZNAME:PDT
END:DAYLIGHT
END:VTIMEZONE
END:VCALENDAR